BEGIN:VCALENDAR
VERSION:2.0
PRODID:-//Skye Climate Action - ECPv6.15.20//NONSGML v1.0//EN
CALSCALE:GREGORIAN
METHOD:PUBLISH
X-WR-CALNAME:Skye Climate Action
X-ORIGINAL-URL:https://skyeclimateaction.org
X-WR-CALDESC:Events for Skye Climate Action
REFRESH-INTERVAL;VALUE=DURATION:PT1H
X-Robots-Tag:noindex
X-PUBLISHED-TTL:PT1H
BEGIN:VTIMEZONE
TZID:Europe/London
BEGIN:DAYLIGHT
TZOFFSETFROM:+0000
TZOFFSETTO:+0100
TZNAME:BST
DTSTART:20200329T010000
END:DAYLIGHT
BEGIN:STANDARD
TZOFFSETFROM:+0100
TZOFFSETTO:+0000
TZNAME:GMT
DTSTART:20201025T010000
END:STANDARD
BEGIN:DAYLIGHT
TZOFFSETFROM:+0000
TZOFFSETTO:+0100
TZNAME:BST
DTSTART:20210328T010000
END:DAYLIGHT
BEGIN:STANDARD
TZOFFSETFROM:+0100
TZOFFSETTO:+0000
TZNAME:GMT
DTSTART:20211031T010000
END:STANDARD
BEGIN:DAYLIGHT
TZOFFSETFROM:+0000
TZOFFSETTO:+0100
TZNAME:BST
DTSTART:20220327T010000
END:DAYLIGHT
BEGIN:STANDARD
TZOFFSETFROM:+0100
TZOFFSETTO:+0000
TZNAME:GMT
DTSTART:20221030T010000
END:STANDARD
END:VTIMEZONE
BEGIN:VEVENT
DTSTART;TZID=Europe/London:20210323T180000
DTEND;TZID=Europe/London:20210323T193000
DTSTAMP:20260422T180952
CREATED:20210311T182436Z
LAST-MODIFIED:20210311T182436Z
UID:2744-1616522400-1616527800@skyeclimateaction.org
SUMMARY:The Power of Public Food - How the public plate can help build a green recovery
DESCRIPTION:Public food is not merely calories on a plate\, but a powerful tool for social\, environmental and economic change. As Scotland plans for a green recovery\, food provides huge potential for positive change. Public procurement of sustainable and local food is one of the most effective mechanisms at our disposal to drive transformation in food production and supply\, and to prioritise the wider community wealth building agenda. \nJoin Food for Life Scotland’s webinar to hear how public food is already making positive change internationally and right here in Scotland. With guest speakers: \n\nJoshna Maharaj\nChef\, activist and author of Take Back the Tray\nToronto\, Canada\nBetina Bergmann Madsen\nChief Procurement Officer\, City of Copenhagen and public procurement specialist\nCopenhagen\, Denmark\nDr Audrey Sutton\nExecutive Director of Communities and Education\, North Ayrshire Council\nNorth Ayrshire\, Scotland\n\nRegister here.
URL:https://skyeclimateaction.org/events/the-power-of-public-food-how-the-public-plate-can-help-build-a-green-recovery/
LOCATION:Virtual Meeting
CATEGORIES:Food
END:VEVENT
BEGIN:VEVENT
DTSTART;TZID=Europe/London:20210323T173000
DTEND;TZID=Europe/London:20210323T193000
DTSTAMP:20260422T180952
CREATED:20210304T185610Z
LAST-MODIFIED:20210304T185610Z
UID:2725-1616520600-1616527800@skyeclimateaction.org
SUMMARY:Scottish Food Hustings
DESCRIPTION:This hustings\, arranged by the Scottish Food Coalition\, is an opportunity to put your points and questions about the food system to political party representatives ahead of the 2021 Scottish Parliamentary elections. \nIt has never been a more important time to talk about food policy. The pandemic has emphasised the importance of building resilience within our food system. \nSpokespersons from the Scottish Conservative Party\, Scottish Green Party\, Scottish Labour Party\, Scottish Liberal Democrat Party and the Scottish National Party will outline their plans and their party’s policies for addressing the challenges facing Scotland’s food system. \nThe hustings will cover four key themes related to our food system: \n\nJobs\nHealth\nPoverty\nClimate & Nature\n\nThe hustings will be chaired by Brian Taylor\, former Political Editor of BBC Scotland. \nFurther details on the programme and Spokespersons will be updated in the coming weeks. \n\n\n\n\n\nRegister here
URL:https://skyeclimateaction.org/events/scottish-food-hustings/
LOCATION:Virtual Meeting
CATEGORIES:Food
END:VEVENT
END:VCALENDAR