BEGIN:VCALENDAR
VERSION:2.0
PRODID:-//Skye Climate Action - ECPv6.15.20//NONSGML v1.0//EN
CALSCALE:GREGORIAN
METHOD:PUBLISH
X-ORIGINAL-URL:https://skyeclimateaction.org
X-WR-CALDESC:Events for Skye Climate Action
REFRESH-INTERVAL;VALUE=DURATION:PT1H
X-Robots-Tag:noindex
X-PUBLISHED-TTL:PT1H
BEGIN:VTIMEZONE
TZID:Europe/London
BEGIN:DAYLIGHT
TZOFFSETFROM:+0000
TZOFFSETTO:+0100
TZNAME:BST
DTSTART:20200329T010000
END:DAYLIGHT
BEGIN:STANDARD
TZOFFSETFROM:+0100
TZOFFSETTO:+0000
TZNAME:GMT
DTSTART:20201025T010000
END:STANDARD
BEGIN:DAYLIGHT
TZOFFSETFROM:+0000
TZOFFSETTO:+0100
TZNAME:BST
DTSTART:20210328T010000
END:DAYLIGHT
BEGIN:STANDARD
TZOFFSETFROM:+0100
TZOFFSETTO:+0000
TZNAME:GMT
DTSTART:20211031T010000
END:STANDARD
BEGIN:DAYLIGHT
TZOFFSETFROM:+0000
TZOFFSETTO:+0100
TZNAME:BST
DTSTART:20220327T010000
END:DAYLIGHT
BEGIN:STANDARD
TZOFFSETFROM:+0100
TZOFFSETTO:+0000
TZNAME:GMT
DTSTART:20221030T010000
END:STANDARD
END:VTIMEZONE
BEGIN:VEVENT
DTSTART;TZID=Europe/London:20210302T180000
DTEND;TZID=Europe/London:20210302T200000
DTSTAMP:20260423T032220
CREATED:20210224T193630Z
LAST-MODIFIED:20210224T193630Z
UID:2688-1614708000-1614715200@skyeclimateaction.org
SUMMARY:Cash vs Climate - Scotland's investment in climate polluters.
DESCRIPTION:Scotland invests billions in some of the world’s worst climate polluters: fossil fuel corporations. But the damage caused by this cash also opens up an opportunity. \nFriends of the Earth Scotland invites you to explore the how a web of money connects Scotland’s institutions to global pollution – what we can do to shift this cash towards sustainable investments – and how divestment can be a powerful tool in the work of building a healthier\, greener future. \nYou’ll hear about brand new research on the Scottish Parliament and local councils. \nRegister here.
URL:https://skyeclimateaction.org/events/cash-vs-climate-scotlands-investment-in-climate-polluters/
LOCATION:Virtual Meeting
CATEGORIES:Finance
ATTACH;FMTTYPE=image/jpeg:https://skyeclimateaction.org/wp-content/uploads/2021/02/cash-vs-climate-original.jpeg
END:VEVENT
END:VCALENDAR