BEGIN:VCALENDAR
VERSION:2.0
PRODID:-//Skye Climate Action - ECPv6.15.20//NONSGML v1.0//EN
CALSCALE:GREGORIAN
METHOD:PUBLISH
X-WR-CALNAME:Skye Climate Action
X-ORIGINAL-URL:https://skyeclimateaction.org
X-WR-CALDESC:Events for Skye Climate Action
REFRESH-INTERVAL;VALUE=DURATION:PT1H
X-Robots-Tag:noindex
X-PUBLISHED-TTL:PT1H
BEGIN:VTIMEZONE
TZID:Europe/London
BEGIN:DAYLIGHT
TZOFFSETFROM:+0000
TZOFFSETTO:+0100
TZNAME:BST
DTSTART:20200329T010000
END:DAYLIGHT
BEGIN:STANDARD
TZOFFSETFROM:+0100
TZOFFSETTO:+0000
TZNAME:GMT
DTSTART:20201025T010000
END:STANDARD
BEGIN:DAYLIGHT
TZOFFSETFROM:+0000
TZOFFSETTO:+0100
TZNAME:BST
DTSTART:20210328T010000
END:DAYLIGHT
BEGIN:STANDARD
TZOFFSETFROM:+0100
TZOFFSETTO:+0000
TZNAME:GMT
DTSTART:20211031T010000
END:STANDARD
BEGIN:DAYLIGHT
TZOFFSETFROM:+0000
TZOFFSETTO:+0100
TZNAME:BST
DTSTART:20220327T010000
END:DAYLIGHT
BEGIN:STANDARD
TZOFFSETFROM:+0100
TZOFFSETTO:+0000
TZNAME:GMT
DTSTART:20221030T010000
END:STANDARD
END:VTIMEZONE
BEGIN:VEVENT
DTSTART;TZID=Europe/London:20210316T120000
DTEND;TZID=Europe/London:20210316T131500
DTSTAMP:20260423T030200
CREATED:20210311T183159Z
LAST-MODIFIED:20210311T183159Z
UID:2746-1615896000-1615900500@skyeclimateaction.org
SUMMARY:Dispelling the myths about carbon sequestration
DESCRIPTION:Based at Bridge Farm in Somerset\, strategic dairy farmer David Cotton will share the measures he has taken to improve carbon storage and explore opportunities for the future. \nYou’ll also hear from Harley Stoddart AHDB Senior Environment Scientist about the facts behind carbon capture and storage\, focussing on soil management practices to build soil organic matter and the role of trees and hedgerows. \nAnd Sarah Bolt\, Kingshay’s membership development manager\, will take you through the results from Kingshay’s recent soil organic carbon research project which looked at soil organic carbon and soil management for 100 grassland fields across the country. \nIn the meeting you will learn: \n\nHow Bridge Farm has addressed carbon sequestration\nHow to improve soil organic carbon levels\nAbout Kingshay’s soil organic carbon research results\nThe facts about carbon sequestration and storage\nThe link between profitable farming and carbon efficiency\n\nRegister here. \nFor further information contact Bryan Nicholson on 07976 181103 or Bryan.nicholson@ahdb.org.uk
URL:https://skyeclimateaction.org/events/dispelling-the-myths-about-carbon-sequestration/
LOCATION:Virtual Meeting
CATEGORIES:Agriculture
END:VEVENT
END:VCALENDAR